BEGIN:VCALENDAR
CALSCALE:GREGORIAN
PRODID:-//github.com/rianjs/ical.net//NONSGML ical.net 2.2//EN
VERSION:2.0
X-WR-CALDESC:Queendom
X-WR-CALNAME:Queendom
X-WR-TIMEZONE:Europe/Zurich
BEGIN:VEVENT
DESCRIPTION:Née d'une rencontre artistique en 2023\, « Alchimie poétique »
  est une pièce pluridisciplinaire mêlant chant\, danse et poésie autour d
 u thème des quatre éléments. Depuis toujours\, l’humanité cherche à compr
 endre le monde. L’eau\, la terre\, l’air et le feu ont longtemps été perç
 us comme les fondements symboliques de la matière. Ce spectacle en propos
 e une exploration sensible et artistique.\nChaque élément est introduit p
 ar la conteuse Léonie Morf à travers des poèmes choisis\, puis prend vie 
 grâce aux voix lyriques de Saralina Thiévent et Rachelle Habegger\, et es
 t mis en mouvement par les danseuses Sibylle Chenevard et Meryl De Feo\, 
 dont la gestuelle\, enrichie d’objets symboliques\, incarne chaque élémen
 t.\nEntre répertoire classique et chansons contemporaines réarrangées\, l
 es artistes sont accompagnées de musicien·nes d’exception : Claude Rossel
  (piano)\, Christophe Meyrat (percussions) et Stéphanie Schneider (accord
 éon). Une expérience poétique\, intime et lumineuse.\n
DTEND;VALUE=DATE:20260928
DTSTAMP:20260421T184717Z
DTSTART;VALUE=DATE:20260927
LOCATION:Tramelan
SEQUENCE:0
STATUS:CONFIRMED
SUMMARY:Queendom
TRANSP:TRANSPARENT
UID:3592
END:VEVENT
END:VCALENDAR
