BEGIN:VCALENDAR
CALSCALE:GREGORIAN
PRODID:-//github.com/rianjs/ical.net//NONSGML ical.net 2.2//EN
VERSION:2.0
X-WR-CALDESC:Un p'tit café ça vous tente ?
X-WR-CALNAME:Un p'tit café ça vous tente ?
X-WR-TIMEZONE:Europe/Zurich
BEGIN:VEVENT
DESCRIPTION:Visite de la torréfaction du café Boisé à Tavannes.\nUn covoit
 urage est organisé. Rendez-vous à 13h30 parking de la Marelle
DTEND;VALUE=DATE:20260625
DTSTAMP:20260416T190154Z
DTSTART;VALUE=DATE:20260624
LOCATION:Tavannes
SEQUENCE:0
STATUS:CONFIRMED
SUMMARY:Un p'tit café ça vous tente ?
TRANSP:TRANSPARENT
UID:3586
END:VEVENT
END:VCALENDAR
